BEGIN:VCALENDAR
VERSION:2.0
PRODID:-//Johnson O&#039;Connor Research Foundation - ECPv6.15.20//NONSGML v1.0//EN
CALSCALE:GREGORIAN
METHOD:PUBLISH
X-ORIGINAL-URL:https://www.jocrf.org
X-WR-CALDESC:Events for Johnson O&#039;Connor Research Foundation
REFRESH-INTERVAL;VALUE=DURATION:PT1H
X-Robots-Tag:noindex
X-PUBLISHED-TTL:PT1H
BEGIN:VTIMEZONE
TZID:America/New_York
BEGIN:DAYLIGHT
TZOFFSETFROM:-0500
TZOFFSETTO:-0400
TZNAME:EDT
DTSTART:20250309T070000
END:DAYLIGHT
BEGIN:STANDARD
TZOFFSETFROM:-0400
TZOFFSETTO:-0500
TZNAME:EST
DTSTART:20251102T060000
END:STANDARD
BEGIN:DAYLIGHT
TZOFFSETFROM:-0500
TZOFFSETTO:-0400
TZNAME:EDT
DTSTART:20260308T070000
END:DAYLIGHT
BEGIN:STANDARD
TZOFFSETFROM:-0400
TZOFFSETTO:-0500
TZNAME:EST
DTSTART:20261101T060000
END:STANDARD
BEGIN:DAYLIGHT
TZOFFSETFROM:-0500
TZOFFSETTO:-0400
TZNAME:EDT
DTSTART:20270314T070000
END:DAYLIGHT
BEGIN:STANDARD
TZOFFSETFROM:-0400
TZOFFSETTO:-0500
TZNAME:EST
DTSTART:20271107T060000
END:STANDARD
END:VTIMEZONE
BEGIN:VEVENT
DTSTART;TZID=America/New_York:20260506T120000
DTEND;TZID=America/New_York:20260506T130000
DTSTAMP:20260423T174014
CREATED:20260420T161912Z
LAST-MODIFIED:20260420T161912Z
UID:4844-1778068800-1778072400@www.jocrf.org
SUMMARY:Aptitude Testing for Career & Educational Planning (May 6th)
DESCRIPTION:Curious about aptitude testing and how it can help with educational and career planning? \nJoin us on Wednesday\, May 6th\, 2026 at 12:00 p.m. ET/9:00 a.m. PT to learn more about our service. \nWe’ll cover what aptitude testing is like and what clients can expect from the service\, as well as logistics like cost and scheduling. \nThis is a webinar for prospective clients who are considering aptitude testing and want to learn more. \nThere will be time for questions\, and the session will be recorded. \nClick on the link below to register. All registrants will receive a link to the recording of the session after the meeting. If you’d like a copy of the recording\, please register for the session\, even if you don’t think you can attend. The recording will be sent 30 minutes after the webinar ends.
URL:https://www.jocrf.org/event/aptitude-testing-for-career-educational-planning-may-6th/
LOCATION:Zoho Webinar
END:VEVENT
END:VCALENDAR